BEGIN:VCALENDAR
VERSION:2.0
PRODID:-//Tukios.com/
BEGIN:VEVENT
UID:e9e0022e-e53f-464a-a3b6-799825548aeb@www.kramergraufuneralhomes.com
DTSTAMP:20260419T233720Z
DTSTART:20260509T160000Z
DTEND:20260509T170000Z
SUMMARY:Celebration of Life
DESCRIPTION:
URL:https://www.kramergraufuneralhomes.com/obituaries/arla-powers
LOCATION:Giard Methodist Church 25964 Giard Rd  McGregor IA 52157
GEO:43.0054031;-91.2903338
END:VEVENT
END:VCALENDAR