BEGIN:VCALENDAR
VERSION:2.0
PRODID:-//Tukios.com/
BEGIN:VEVENT
UID:ade8cd91-1836-4c72-b3af-da1722083084@www.kramergraufuneralhomes.com
DTSTAMP:20260419T232356Z
DTSTART:20260425T180000Z
DTEND:20260425T200000Z
SUMMARY:Celebration of Life
DESCRIPTION:
URL:https://www.kramergraufuneralhomes.com/obituaries/kenneth-carpenter
LOCATION:Lucky's Bar & Grill 150 S Bagley  Bagley WI 53801
GEO:42.9048167;-91.1025491
END:VEVENT
END:VCALENDAR