BEGIN:VCALENDAR
VERSION:2.0
PRODID:-//Tukios.com/
BEGIN:VEVENT
UID:a77346a9-3270-4087-9b6d-8b383c809117@www.kramergraufuneralhomes.com
DTSTAMP:20260423T235751Z
DTSTART:20260501T160000Z
DTEND:20260501T180000Z
SUMMARY:Visitation
DESCRIPTION:
URL:https://www.kramergraufuneralhomes.com/obituaries/robert-lange
LOCATION: 144 N Main St  Potosi WI 53820
GEO:42.6924521;-90.7103935
END:VEVENT
END:VCALENDAR