BEGIN:VCALENDAR
VERSION:2.0
PRODID:-//Tukios.com/
BEGIN:VEVENT
UID:0dcace69-be5b-40b4-ba3d-b7aba635cf9a@www.kramergraufuneralhomes.com
DTSTAMP:20260423T235453Z
DTSTART:20260501T180000Z
DTEND:20260501T183000Z
SUMMARY:Funeral Service
DESCRIPTION:
URL:https://www.kramergraufuneralhomes.com/obituaries/robert-lange
LOCATION: 144 N Main St  Potosi WI 53820
GEO:42.6924521;-90.7103935
END:VEVENT
END:VCALENDAR