BEGIN:VCALENDAR
VERSION:2.0
PRODID:-//Tukios.com/
BEGIN:VEVENT
UID:63ddf4b8-934a-4626-9c02-6f0f0a40e275@www.kramergraufuneralhomes.com
DTSTAMP:20260423T235453Z
DTSTART:20260501T184500Z
DTEND:20260501T190000Z
SUMMARY:Burial
DESCRIPTION:
URL:https://www.kramergraufuneralhomes.com/obituaries/robert-lange
LOCATION: 5459 US-61  Potosi WI 53820
GEO:42.7037432;-90.6871371
END:VEVENT
END:VCALENDAR