BEGIN:VCALENDAR
VERSION:2.0
PRODID:-//Tukios.com/
BEGIN:VEVENT
UID:46e3d81c-38ff-429a-bd8c-fab7db66028e@www.kramergraufuneralhomes.com
DTSTAMP:20260423T235612Z
DTSTART:20260501T191500Z
DTEND:20260501T201500Z
SUMMARY:Celebration of Life
DESCRIPTION:
URL:https://www.kramergraufuneralhomes.com/obituaries/robert-lange
LOCATION:Lange Residence 6132 Hwy 61  Potosi WI 53820
GEO:42.7276293;-90.681307
END:VEVENT
END:VCALENDAR